Workbook
Name ac: [1]초산!$A$6:$D$106
Name iba: '[1]iso butyle acetate'!$A$6:$D$106
Name ma: '[1]Methyle acetate'!$A$6:$D$106
Name me: [1]Methanol!$A$6:$D$106
Name px: '[1]p-xylene'!$A$6:$D$106
Name water: [1]Water!$A$6:$D$165

Sheet INTRO
B2: 본 프로그램은 ㈜에코시안의 실습자료(version1.0)입니다.
F8: 회사명 :
F9: 부서명 :
F10: 성 명 :

Sheet 고정실습1
B2: [실습1]
B3: Q : 한국주식회사의 부평사업장에는 보일러 1,2호기는 한국도시가스로부터 LNG를 구매하여 사용하고 있다. 세금계산서 기준으로 2011년도 한국주식회사의 총 LNG 사용량은 681,410,000 (NM3) 이다. 단, 보일러 1, 2호기에는 각각의 검침이 되지 않는 계량기가 있는데 이 계량기 기준으로 사용량을 체크한 결과, 보일러 1호기의 LNG 사용량은 400,000,000 (NM3)이고, 보일러 2호기의 LNG 사용량은 281,300,000 (NM3) 이다. 한국주식회사의 보일러 1, 2호기의 2011년도 온실가스 배출량을 구하여라.
B10: 배출시설명 | D10: 연료명 | E10: 연료사용량 | F10: 단위 | G10: 열량계수 | I10: 배출계수 | L10: 산화계수 | M10: GWP | P10: 온실가스 배출량 | T10: 에너지 사용량
G11: 순발열량 | H11: 총발열량 | I11: CO2 | J11: CH4 | K11: N2O | M11: CO2 | N11: CH4 | O11: N2O | P11: CO2 | Q11: CH4 | R11: N2O | S11: Total
G12: TJ/천NM3 | H12: TJ/천NM3 | I12: tCO2/TJ | J12: kgCH4/TJ | K12: kgN2O/TJ | L12: 단위없음 | M12: 단위없음 | N12: 단위없음 | O12: 단위없음 | P12: tCO2 | Q12: kgCH4 | R12: kgN2O | S12: tCO2eq | T12: TJ
B13: 보일러 1호기 | D13: LNG | E13: =681410*(400000/(400000+281300)) -> 400064.58 | F13: 천NM3 | G13: =Parameter!E25/1000 -> 0.04 | H13: =Parameter!D25/1000 -> 0.0442 | I13: =Parameter!K46/1000 -> 56.1 | J13: =Parameter!L46 -> 30 | K13: =Parameter!P46 -> 0.1 | L13: 1 | M13: 1 | N13: 21 | O13: 310 | P13: =$E13*$G13*I13*$L13 -> 897744.92 | Q13: =$E13*$G13*J13*$L13 -> 480077.5 | R13: =$E13*$G13*K13*$L13 -> 1600.2583 | S13: =(P13*M13)+(Q13*N13/1000)+(R13*O13/1000) -> 908322.63 | T13: =E13*H13 -> 17682.855
B14: 보일러 2호기 | D14: LNG | E14: =681410*(281300/(400000+281300)) -> 281345.42 | F14: 천NM3 | G14: =Parameter!E25/1000 -> 0.04 | H14: =Parameter!D25/1000 -> 0.0442 | I14: =Parameter!K46/1000 -> 56.1 | J14: =Parameter!L46 -> 30 | K14: =Parameter!P46 -> 0.1 | L14: 1 | M14: 1 | N14: 21 | O14: 310 | P14: =$E14*$G14*I14*$L14 -> 631339.12 | Q14: =$E14*$G14*J14*$L14 -> 337614.5 | R14: =$E14*$G14*K14*$L14 -> 1125.3817 | S14: =(P14*M14)+(Q14*N14/1000)+(R14*O14/1000) -> 638777.89 | T14: =E14*H14 -> 12435.467
B16: Hint) 세금계산서 상 연료사용량을 기준으로 보일러 1,2호기를 구분한다.
B20: 보일러 1호기 온실가스 배출량 | E20: =S13 -> 908322.63 | H20: tCO2eq
B21: 보일러 2호기 온실가스 배출량 | E21: =S14 -> 638777.89 | H21: tCO2eq

Sheet 고정실습2
B2: [실습2]
B3: Q : 구세계 백화점의 본점에는 버거킹, 소담칼국수, 스타벅스가 각각 입점해 있다. 2011년도 고지서 기준으로 각 임대매장에서는 도시가스(LPG)를 각각 35,000ton, 27,000ton, 82,000ton을 사용하였다. 그리고, 백화점 전체용 비상발전기 1대가 있는데, 이 비상발전기의 경우 경유를 사용하며 2주에 1번씩 무부하 운전시에만 30분씩 가동하였다.(비상발전기 경유사용량 100 Liter/hr) 1층 로비에는 손님용 대형난로가 비치되어 있으며, 이 난로는 실내등유를 사용하는데, 난로에 사용되는 등유는 구매량만이 관리가 된다. 구매량 관리대장에 다음과 같이 기록되어 있다. [등유 관리대장] . 2010년 기말 재고량 : 200 Liter . 2011년 3월 구매량 : 500 Liter . 2011년 9월 구매량 : 1,000 Liter . 2011년 기말 재고량 : 400 Liter 구세계 백화점 본점의 2011년도 온실가스 총배출량을 구하여라.
B10: 배출시설명 | D10: 연료명 | E10: 연료사용량 | F10: 단위 | G10: 열량계수 | I10: 배출계수 | L10: 산화계수 | M10: GWP | P10: 온실가스 배출량 | T10: 에너지 사용량
G11: 순발열량 | H11: 총발열량 | I11: CO2 | J11: CH4 | K11: N2O | M11: CO2 | N11: CH4 | O11: N2O | P11: CO2 | Q11: CH4 | R11: N2O | S11: Total
G12: TJ/unit | H12: TJ/unit | I12: tCO2/TJ | J12: kgCH4/TJ | K12: kgN2O/TJ | L12: 단위없음 | M12: 단위없음 | N12: 단위없음 | O12: 단위없음 | P12: tCO2 | Q12: kgCH4 | R12: kgN2O | S12: tCO2eq | T12: TJ
B13: 버거킹 | D13: LPG | E13: 265 | F13: kg | G13: =Parameter!E14/1000000 -> 4.63e-05 | H13: =Parameter!D14/1000000 -> 5.04e-05 | I13: =Parameter!K18/1000 -> 63.1 | J13: =Parameter!N18 -> 5 | K13: =Parameter!Q18 -> 0.1 | L13: 1 | M13: 1 | N13: 21 | O13: 310 | P13: =$E13*$G13*I13*$L13 -> 0.77420545 | Q13: =$E13*$G13*J13*$L13 -> 0.0613475 | R13: =$E13*$G13*K13*$L13 -> 0.00122695 | S13: =(P13*M13)+(Q13*N13/1000)+(R13*O13/1000) -> 0.7758741 | T13: =E13*H13 -> 0.013356
B14: 소담칼국수 | D14: LPG | E14: 27000 | F14: kg | G14: =Parameter!E14/1000000 -> 4.63e-05 | H14: =Parameter!D14/1000000 -> 5.04e-05 | I14: =Parameter!K18/1000 -> 63.1 | J14: =Parameter!N18 -> 5 | K14: =Parameter!Q18 -> 0.1 | L14: 1 | M14: 1 | N14: 21 | O14: 310 | P14: =$E14*$G14*I14*$L14 -> 78.88131 | Q14: =$E14*$G14*J14*$L14 -> 6.2505 | R14: =$E14*$G14*K14*$L14 -> 0.12501 | S14: =(P14*M14)+(Q14*N14/1000)+(R14*O14/1000) -> 79.051324 | T14: =E14*H14 -> 1.3608
B15: 스타벅스 | D15: LPG | E15: 82000 | F15: kg | G15: =Parameter!E14/1000000 -> 4.63e-05 | H15: =Parameter!D14/1000000 -> 5.04e-05 | I15: =Parameter!K18/1000 -> 63.1 | J15: =Parameter!N18 -> 5 | K15: =Parameter!Q18 -> 0.1 | L15: 1 | M15: 1 | N15: 21 | O15: 310 | P15: =$E15*$G15*I15*$L15 -> 239.56546 | Q15: =$E15*$G15*J15*$L15 -> 18.983 | R15: =$E15*$G15*K15*$L15 -> 0.37966 | S15: =(P15*M15)+(Q15*N15/1000)+(R15*O15/1000) -> 240.0818 | T15: =E15*H15 -> 4.1328
B16: 비상발전기 1호기 | D16: 경유 | E16: 0.084 | F16: kl | G16: =Parameter!E10/1000 -> 0.0354 | H16: =Parameter!D10/1000 -> 0.0379 | I16: =Parameter!K16/1000 -> 74.1 | J16: =Parameter!N16 -> 10 | K16: =Parameter!Q16 -> 0.6 | L16: 1 | M16: 1 | N16: 21 | O16: 310 | P16: =$E16*$G16*I16*$L16 -> 0.22034376 | Q16: =$E16*$G16*J16*$L16 -> 0.029736 | R16: =$E16*$G16*K16*$L16 -> 0.00178416 | S16: =(P16*M16)+(Q16*N16/1000)+(R16*O16/1000) -> 0.22152131 | T16: =E16*H16 -> 0.0031836
B17: 대형난로 | D17: 실내등유 | E17: =(200+500+1000-400)/1000 -> 1.3 | F17: kl | G17: =Parameter!E8/1000 -> 0.0343 | H17: =Parameter!D8/1000 -> 0.0368 | I17: =Parameter!K14/1000 -> 71.9 | J17: =Parameter!N14 -> 10 | K17: =Parameter!Q14 -> 0.6 | L17: 1 | M17: 1 | N17: 21 | O17: 310 | P17: =$E17*$G17*I17*$L17 -> 3.206021 | Q17: =$E17*$G17*J17*$L17 -> 0.4459 | R17: =$E17*$G17*K17*$L17 -> 0.026754 | S17: =(P17*M17)+(Q17*N17/1000)+(R17*O17/1000) -> 3.2236786 | T17: =E17*H17 -> 0.04784
B19: Hint) 백화점은 상업공공 건물이다.
B21: 구세계백화점 본점 온실가스 배출량 | F21: =SUM(S13:S17) -> 323.3542 | I21: tCO2eq

Sheet 고정실습3
B2: [실습3]
B3: Q : PW화학에서는 공정 중 생기는 부생연료A를 사용한다. 부생연료의 연료분석은 매주 1회 실시하는데, 2012년도 1월의 일자별 연료사용량 및 연료분석 값은 다음과 같다. PW화학의 부생연료에 대하여 Tier 3 배출계수를 개발하고, 해당 배출계수를 적용한 최종 온실가스 배출량을 구하여라.
B9: 분석일자 | C9: C 함량 (무게%) | D9: 순발열량(MJ/kg) | E9: 연료밀도(kg/kl) | F9: 총발열량(MJ/kg) | H9: 사용일자 | I9: 연료사용량(kl)
B10: 40909 | C10: 84.95 | D10: 38.878 | E10: 942.3 | F10: 40.997 | H10: 40909 | I10: 25412
B11: 40917 | C11: 82.65 | D11: 37.562 | E11: 942.3 | F11: 39.255 | H11: 40910 | I11: 22022
B12: 40922 | C12: 83.02 | D12: 36.154 | E12: 942.3 | F12: 48.802 | H12: 40911 | I12: 23290
B13: 40929 | C13: 85.11 | D13: 34.255 | E13: 942.3 | F13: 37.004 | H13: 40912 | I13: 31076
B14: 40935 | C14: 84.85 | D14: 37.254 | E14: 942.3 | F14: 40.211 | H14: 40913 | I14: 34115
H15: 40914 | I15: 36342
H16: 40915 | I16: 36137
H17: 40916 | I17: 24020
B18: 지침 Tier3 배출계수 산정 방법론 | H18: 40917 | I18: 22201
H19: 40918 | I19: 36139
H20: 40919 | I20: 36211
H21: 40920 | I21: 23607
B22: EFi,CO2 : 연료(i)의 CO2 배출계수(kg-CO2 / GJ-연료) | H22: 40921 | I22: 31030
B23: Ci : 연료(i)의 탄소 함량(퍼센트, %) | H23: 40922 | I23: 27246
B24: Di : 연료(i)의 밀도(kg-연료 / kl-연료) | H24: 40923 | I24: 38232
B25: Eci : 연료(i)의 열량계수(연료 순발열량, GJ / kl-연료) | H25: 40924 | I25: 31166
H26: 40925 | I26: 25049
H27: 40926 | I27: 21571
H28: 40927 | I28: 34293
B29: Hint) 연료의 성분은 최근분석일자의 값을 적용한다. | H29: 40928 | I29: 29863
B30: Hint) 연료사용량에 대하여 가중평균하여, 최종 배출계수를 산정한다. | H30: 40929 | I30: 22458
H31: 40930 | I31: 29530
H32: 40931 | I32: 34659
H33: 40932 | I33: 34447
H34: 40933 | I34: 28692
H35: 40934 | I35: 30676
H36: 40935 | I36: 26290
H37: 40936 | I37: 28015
H38: 40937 | I38: 23931
H39: 40938 | I39: 34878
H40: 40939 | I40: 24901
D43: 연료명 | E43: 연료사용량 | F43: Ci | G43: Di | H43: ECi | I43: EF | K43: 총발열량
F44: % | G44: kg/kl | H44: GJ/kl | I44: kgCO2/GJ | K44: GJ/kl
B45: 2012-01-01 ~ 2012-01-08 | D45: 부생연료A | E45: =SUM(I10:I17) -> 232414 | F45: =C10 -> 84.95 | G45: =E10 -> 942.3 | H45: =D10*E10/1000 -> 36.634739 | I45: =(F45/100)*(G45/H45)*44/12 -> 80.118147 | K45: =E10*F10/1000 -> 38.631473
B46: 2012-01-09 ~ 2012-01-13 | D46: 부생연료A | E46: =SUM(I18:I22) -> 149188 | F46: =C11 -> 82.65 | G46: =E11 -> 942.3 | H46: =D11*E11/1000 -> 35.394673 | I46: =(F46/100)*(G46/H46)*44/12 -> 80.679942 | K46: =E11*F11/1000 -> 36.989987
B47: 2012-01-14 ~ 2012-01-20 | D47: 부생연료A | E47: =SUM(I23:I29) -> 207420 | F47: =C12 -> 83.02 | G47: =E12 -> 942.3 | H47: =D12*E12/1000 -> 34.067914 | I47: =(F47/100)*(G47/H47)*44/12 -> 84.19723 | K47: =E12*F12/1000 -> 45.986125
B48: 2012-01-21 ~ 2012-01-26 | D48: 부생연료A | E48: =SUM(I30:I35) -> 180462 | F48: =C13 -> 85.11 | G48: =E13 -> 942.3 | H48: =D13*E13/1000 -> 32.278486 | I48: =(F48/100)*(G48/H48)*44/12 -> 91.102029 | K48: =E13*F13/1000 -> 34.868869
...

Sheet 이동실습1
B2: [실습1]
B3: Q : A건설사에는 법인차량으로 등록되어 있는 차량을 조사한 결과, 아래와 같으며, 2012년 1월 사용분이 다음과 같이 관리되고 있다. A건설사의 이동연소 배출량을 구하여라.
B10: 법인차량 | E10: 에너지원 | F10: 에너지사용량 | G10: 단위
B11: 에쿠스 | C11: 본사소유 | D11: 업무차량 | E11: 휘발유 | F11: 980 | G11: L
B12: 에쿠스 | C12: 본사소유 | D12: 업무차량 | E12: 휘발유 | F12: 700 | G12: L
B13: K9 | C13: 장기임대 | D13: 임원차량 | E13: 휘발유 | F13: 840000 | G13: 원
B14: 포터 | C14: 화주기업차량 | D14: 제품운송 | E14: 경유 | F14: 2450 | G14: km
B16: Hint) 경유의 연비 : 9.5 L/km , 휘발유 단가 : 2430 원/L
B18: 배출시설명 | C18: 연료명 | D18: 연료사용량 | E18: 단위 | F18: 열량계수 | H18: 배출계수 | K18: GWP | N18: 온실가스 배출량 | R18: 에너지 사용량
F19: 순발열량 | G19: 총발열량 | H19: CO2 | I19: CH4 | J19: N2O | K19: CO2 | L19: CH4 | M19: N2O | N19: CO2 | O19: CH4 | P19: N2O | Q19: Total
F20: TJ/unit | G20: TJ/unit | H20: tCO2/TJ | I20: kgCH4/TJ | J20: kgN2O/TJ | K20: 단위없음 | L20: 단위없음 | M20: 단위없음 | N20: tCO2 | O20: kgCH4 | P20: kgN2O | Q20: tCO2eq | R20: TJ
B21: 에쿠스 | C21: 휘발유 | D21: =F11 -> 980 | E21: Liter | F21: =[2]Parameter!E7/1000 -> 0.031 | G21: =[2]Parameter!D7/1000 -> 0.0335 | H21: =[2]Parameter!X6/1000 -> 69.3 | I21: =[2]Parameter!Y6 -> 25 | J21: =[2]Parameter!Z6 -> 8 | K21: 1 | L21: 21 | M21: 310 | N21: =$D21*$F21*H21 -> 2105.334 | O21: =$D21*$F21*I21 -> 759.5 | P21: =$D21*$F21*J21 -> 243.04 | Q21: =SUMPRODUCT(K21:M21,N21:P21) -> 93397.234 | R21: =D21*G21 -> 32.83
B22: 에쿠스 | C22: 휘발유 | D22: =F12 -> 700 | E22: Liter | F22: =[2]Parameter!E7/1000 -> 0.031 | G22: =[2]Parameter!D7/1000 -> 0.0335 | H22: =[2]Parameter!X6/1000 -> 69.3 | I22: =[2]Parameter!Y6 -> 25 | J22: =[2]Parameter!Z7 -> 3.9 | K22: 1 | L22: 21 | M22: 310 | N22: =$D22*$F22*H22 -> 1503.81 | O22: =$D22*$F22*I22 -> 542.5 | P22: =$D22*$F22*J22 -> 84.63 | Q22: =SUMPRODUCT(K22:M22,N22:P22) -> 39131.61 | R22: =D22*G22 -> 23.45
B23: K9 | C23: 휘발유 | D23: =F13/2430 -> 345.67901 | E23: Liter | F23: =[2]Parameter!E7/1000 -> 0.031 | G23: =[2]Parameter!D7/1000 -> 0.0335 | H23: =[2]Parameter!X6/1000 -> 69.3 | I23: =[2]Parameter!Y6 -> 25 | J23: =[2]Parameter!Z8 -> 0.2 | K23: 1 | L23: 21 | M23: 310 | N23: =$D23*$F23*H23 -> 742.62222 | O23: =$D23*$F23*I23 -> 267.90123 | P23: =$D23*$F23*J23 -> 2.1432099 | Q23: =SUMPRODUCT(K23:M23,N23:P23) -> 7032.9432 | R23: =D23*G23 -> 11.580247
B24: 포터 | C24: 경유 | D24: =F14*9.5 -> 23275 | E24: Liter | F24: =[2]Parameter!E10/1000 -> 0.0354 | G24: =[2]Parameter!D10/1000 -> 0.0379 | H24: =[2]Parameter!X7/1000 -> 74.1 | I24: =[2]Parameter!Y7 -> 3.9 | J24: =[2]Parameter!Z7 -> 3.9 | K24: 1 | L24: 21 | M24: 310 | N24: =$D24*$F24*H24 -> 61053.584 | O24: =$D24*$F24*I24 -> 3213.3465 | P24: =$D24*$F24*J24 -> 3213.3465 | Q24: =SUMPRODUCT(K24:M24,N24:P24) -> 1124671.3 | R24: =D24*G24 -> 882.1225
B27: A건설사의 이동연소 총 배출량 | E27: =SUM(Q21:Q24) -> 1264233.1 | H27: tCO2eq

Sheet Parameter
B2: [별표 19] 연료별 국가 고유 발열량(에너지법 시행규칙 별표) | G2: [별표 17] 2006 IPCC 국가 인벤토리 가이드라인 기본 배출계수 (제47조제1항 관련) - 고정연소 배출원 | S2: [참고3] 온실가스 (지구온난화지수) | W2: 이동연소 연료별, 온실가스별 기본 배출계수 | AB2: 국가 전력배출계수
Q3: (단위 : kgGHG/TJ)
B4: 연료명 | C4: 단위 | D4: 총발열량 | E4: 순발열량 | G4: 연료명 | J4: 국가에너지원기준 | K4: CO2 | L4: CH4 | P4: N2O | S4: 온실가스 명 | T4: 화학식 | U4: GWP | W4: 연료 종류 | X4: 기본 배출계수 (kg/TJ) | AB4: 연도 | AC4: CO2 | AD4: CH4 | AE4: N2O | AG4: 하위용도 | AH4: 충진량 | AI4: 수명 | AJ4: 배출계수 | AL4: 최종 사용 배출량 | AO4: 공정과정 | AP4: 배출계수(tCO2/t-생산물) | AR4: 전자산업 | AS4: 배출계수 (기판의 단위면적 당 질량)
L5: 에너지 산업 | M5: 제조업 건설업 | N5: 상업 공공 | O5: 가정 기타 | P5: 에너지산업 제조업 건설업 | Q5: 상업 공공 가정 기타 | X5: CO2 | Y5: CH4 | Z5: N2O | AC5: (tCO2/MWh) | AD5: (kgCH4/MWh) | AE5: (kgN2O/MWh) | AH5: (kg) | AI5: (years) | AJ5: (초기충진율%/year) | AL5: (%) | AO5: 소결물생산 | AP5: 0.2 | AS5: CF4 | AT5: C2F6 | AU5: CHF3 | AV5: C3F8 | AW5: SF6 | AX5: C6F14
B6: 원유 | C6: TJ/Gg | D6: 45 | E6: 42.3 | G6: Ⅰ. 액체연료 | S6: 이산화탄소 | T6: CO2 | U6: 1 | W6: 휘발유 | X6: 69300 | Y6: 25 | Z6: 8 | AC6: 0.4653 | AD6: 0.0054 | AE6: 0.0027 | AJ6: 최초배출량 | AK6: 운전 중 배출량 | AL6: 회수효율 | AM6: 초기 충진잔량 | AO6: 코크스로가스 | AP6: 0.56 | AS6: (PFC-14) | AT6: (PFC-116) | AU6: (HFC-23) | AV6: (PFC-218) | AX6: (PFC-51-14)
B7: 휘발유 | C7: MJ/Liter | D7: 33.5 | E7: 31 | G7: 원유 | J7: 원유 | K7: 73300 | L7: 3 | M7: 3 | N7: 10 | O7: 10 | P7: 0.6 | Q7: 0.6 | S7: 메탄 | T7: CH4 | U7: 21 | W7: 경유 | X7: 74100 | Y7: 3.9 | Z7: 3.9 | AJ7: (제품 생산시) | AK7: (제품 사용시) | AO7: 철 생산 | AP7: 1.35 | AR7: 반도체, kg/m2 | AS7: 0.9 | AT7: 1 | AU7: 0.04 | AV7: 0.05 | AW7: 0.2 | AX7: NA
B8: 실내등유 | C8: MJ/Liter | D8: 36.8 | E8: 34.3 | G8: 오리멀젼 | J8: - | K8: 77000 | L8: 3 | M8: 3 | N8: 10 | O8: 10 | P8: 0.6 | Q8: 0.6 | S8: 아산화질소 | T8: N2O | U8: 310 | W8: LPG | X8: 63100 | Y8: 62 | Z8: 0.2 | AG8: 가정용 냉장고 | AH8: 0.05≤M≤0.5 | AI8: 12≤d≤20 | AJ8: 0.2≤k≤1 | AK8: 0.1≤x≤0.5 | AL8: 0<ƞrec,d<70 | AM8: 0<p<80 | AO8: 직접 환원철 생산 | AP8: 0.7 | AR8: TFT-FPDs, g/m2 | AS8: 0.5 | AT8: NA | AU8: NA | AV8: NA | AW8: 4 | AX8: NA
B9: 보일러등유 | C9: MJ/Liter | D9: 37.5 | E9: 35 | G9: 천연가스액 | J9: - | K9: 64200 | L9: 3 | M9: 3 | N9: 10 | O9: 10 | P9: 0.6 | Q9: 0.6 | S9: HFC-23 | T9: CHF3 | U9: 11700 | W9: 등유 | X9: 71900 | Y9: - | Z9: - | AG9: 상업용 독립형 | AH9: 0.2≤M≤6 | AI9: 10≤d≤15 | AJ9: 0.5≤k≤3 | AK9: 1≤x≤15 | AL9: 0<ƞrec,d<70 | AM9: 0<p<80 | AO9: 펠렛 생산 | AP9: 0.03 | AR9: PV-cells, g/m2 | AS9: 5 | AT9: 0.2 | AU9: NA | AV9: NA | AW9: NA | AX9: NA
B10: 경유 | C10: MJ/Liter | D10: 37.9 | E10: 35.4 | G10: 가솔린 | H10: 자동차용 가솔린 | J10: 휘발유 | K10: 69300 | L10: 3 | M10: 3 | N10: 10 | O10: 10 | P10: 0.6 | Q10: 0.6 | S10: HFC-32 | T10: CH2F2 | U10: 650 | W10: 윤활유 | X10: 73300 | Y10: - | Z10: - | AG10: 상업용 중대형 | AH10: 50≤M≤2,000 | AI10: 7≤d≤15 | AJ10: 0.5≤k≤3 | AK10: 10≤x≤35 | AL10: 0<ƞrec,d<70 | AM10: 50<p<100 | AO10: 전로(BOF) | AP10: 1.46
B11: B-A유 | C11: TJ/1000㎥ | D11: 38.9 | E11: 36.6 | H11: 항공용 가솔린 | J11: - | K11: 70000 | L11: 3 | M11: 3 | N11: 10 | O11: 10 | P11: 0.6 | Q11: 0.6 | S11: HFC-41 | T11: CH3F | U11: 150 | W11: CNG | X11: 56100 | Y11: 92 | Z11: 3 | AG11: 냉장고 | AO11: 전기로(EAF) | AP11: 0.08
B12: B-B유 | C12: TJ/1000㎥ | D12: 40.4 | E12: 38.1 | H12: 제트용 가솔린 | J12: JP-8 | K12: 70000 | L12: 3 | M12: 3 | N12: 10 | O12: 10 | P12: 0.6 | Q12: 0.6 | S12: HCF-43-10mee | T12: C5H2F10 | U12: 1300 | W12: LNG | X12: 56100 | Y12: 92 | Z12: 3 | AG12: 수송용 냉장고 | AH12: 3≤M≤8 | AI12: 6≤d≤9 | AJ12: 0.2≤k≤1 | AK12: 15≤x≤50 | AL12: 0<ƞrec,d<70 | AM12: 0<p<50 | AO12: 평로(OHF) | AP12: 1.72
B13: B-C유 | C13: TJ/1000㎥ | D13: 41.4 | E13: 39.1 | G13: 제트용 등유 | J13: JET A-1 | K13: 71500 | L13: 3 | M13: 3 | N13: 10 | O13: 10 | P13: 0.6 | Q13: 0.6 | S13: HFC-125 | T13: C2HF5 | U13: 2800 | AG13: 식품가공 및 보관용 산업 냉장고 | AH13: 10≤M≤10,000 | AI13: 15≤d≤30 | AJ13: 0.5≤k≤3 | AK13: 7≤x≤25 | AL13: 0<ƞrec,d<90 | AM13: 50<p<100 | AO13: 국제기준값 | AP13: 1.06
B14: 프로판 | C14: TJ/Gg | D14: 50.4 | E14: 46.3 | G14: 기타 등유 | J14: 실내 등유,보일러 등유 | K14: 71900 | L14: 3 | M14: 3 | N14: 10 | O14: 10 | P14: 0.6 | Q14: 0.6 | S14: HFC-134 | T14: C2H2F4 | U14: 1000 | AG14: 냉각장치 | AH14: 10≤M≤2,000 | AI14: 15≤d≤30 | AJ14: 0.2≤k≤1 | AK14: 2≤x≤15 | AL14: 0<ƞrec,d<95 | AM14: 80<p<100 | AO14: (65% BOF, 30% EAF, OHF기준)
B15: 부탄 | C15: TJ/Gg | D15: 49.6 | E15: 45.7 | G15: 혈암유 | J15: - | K15: 73300 | L15: 3 | M15: 3 | N15: 10 | O15: 10 | P15: 0.6 | Q15: 0.6 | S15: HFC-134a | T15: CH2FCF3 | U15: 1300 | AG15: 주거 및 상업용 에어컨(열펌프 포함) | AH15: 0.5≤M≤100 | AI15: 10≤d≤20 | AJ15: 0.2≤k≤1 | AK15: 1≤x≤10 | AL15: 0<ƞrec,d<80 | AM15: 0<p<80
B16: 나프타 | C16: TJ/1000㎥ | D16: 33.7 | E16: 31.2 | G16: 가스/디젤 오일 | J16: 경유, B-A | K16: 74100 | L16: 3 | M16: 3 | N16: 10 | O16: 10 | P16: 0.6 | Q16: 0.6 | S16: HFC-152a | T16: C2H4F2 | U16: 140 | AG16: 차량용 에어컨 | AH16: 0.5≤M≤1.5 | AI16: 9≤d≤16 | AJ16: 0.2≤k≤0.5 | AK16: 10≤x≤20 | AL16: 0<ƞrec,d<50 | AM16: 0<p<50
B17: 용제 | C17: TJ/1000㎥ | D17: 33.3 | E17: 30.8 | G17: 잔여 연료유 | J17: B-B, B-C | K17: 77400 | L17: 3 | M17: 3 | N17: 10 | O17: 10 | P17: 0.6 | Q17: 0.6 | S17: HFC-143 | T17: C2H3F3 | U17: 300
B18: 항공유 | C18: TJ/1000㎥ | D18: 36.6 | E18: 34.3 | G18: 액화석유가스 | J18: LPG | K18: 63100 | L18: 1 | M18: 1 | N18: 5 | O18: 5 | P18: 0.1 | Q18: 0.1 | S18: HFC-143a | T18: C2H3F3 | U18: 3800
B19: 아스팔트 | C19: TJ/Gg | D19: 41.4 | E19: 39.1 | G19: 에탄 | J19: - | K19: 61600 | L19: 1 | M19: 1 | N19: 5 | O19: 5 | P19: 0.1 | Q19: 0.1 | S19: HFC-227ea | T19: C3HF7 | U19: 2900
B20: 윤활유 | C20: TJ/1000㎥ | D20: 38.7 | E20: 36.2 | G20: 나프타 | J20: 납사 | K20: 73300 | L20: 3 | M20: 3 | N20: 10 | O20: 10 | P20: 0.6 | Q20: 0.6 | S20: HFC-236fa | T20: C3H2F6 | U20: 6300
B21: 석유코크 | C21: TJ/Gg | D21: 33.9 | E21: 32.9 | G21: 역청(아스팔트) | J21: 아스팔트 | K21: 80700 | L21: 3 | M21: 3 | N21: 10 | O21: 10 | P21: 0.6 | Q21: 0.6 | S21: HFC-245ca | T21: C3H3F5 | U21: 560
B22: 부생연료1호 | C22: TJ/1000㎥ | D22: 37 | E22: 35 | G22: 윤활유 | J22: 윤활유 | K22: 73300 | L22: 3 | M22: 3 | N22: 10 | O22: 10 | P22: 0.6 | Q22: 0.6 | S22: PFC-14 | T22: CF4 | U22: 6500
B23: 부생연료2호 | C23: TJ/1000㎥ | D23: 40.6 | E23: 38.5 | G23: 석유 코크스 | J23: 석유코크 | K23: 97500 | L23: 3 | M23: 3 | N23: 10 | O23: 10 | P23: 0.6 | Q23: 0.6 | S23: PFC-116 | T23: C2F6 | U23: 9200
B24: 천연가스(LNG) | C24: TJ/Gg | D24: 54.5 | E24: 49.2 | G24: 정유공장 원료 | J24: 정제연료 (반제품) | K24: 73300 | L24: 3 | M24: 3 | N24: 10 | O24: 10 | P24: 0.6 | Q24: 0.6 | S24: PFC-218 | T24: C3F8 | U24: 7000
B25: 도시가스(LNG) | C25: TJ/1,000,000㎥ | D25: 44.2 | E25: 40 | G25: 기타 오일 | H25: 정유가스 | J25: 정제가스 | K25: 57600 | L25: 1 | M25: 1 | N25: 5 | O25: 5 | P25: 0.1 | Q25: 0.1 | S25: PFC-318 | T25: c-C4F8 | U25: 7000
B26: 국내무연탄 | C26: TJ/Gg | D26: 19.5 | E26: 19.3 | H26: 접착제(파라핀왁스) | J26: 파라핀왁스 | K26: 73300 | L26: 3 | M26: 3 | N26: 10 | O26: 10 | P26: 0.6 | Q26: 0.6 | S26: PFC-31-10 | T26: C4F10 | U26: 8700
B27: 수입무연탄 | C27: TJ/Gg | D27: 27.4 | E27: 26.8 | H27: 백유 | J27: 용제 | K27: 73300 | L27: 3 | M27: 3 | N27: 10 | O27: 10 | P27: 0.6 | Q27: 0.6 | S27: PFC-41-12 | T27: C5F12 | U27: 7500
B28: 유연탄(연료용) | C28: TJ/Gg | D28: 26 | E28: 24.9 | H28: 기타석유제품 | J28: 기타 | K28: 73300 | L28: 3 | M28: 3 | N28: 10 | O28: 10 | P28: 0.6 | Q28: 0.6 | S28: PFC-51-14 | T28: C6F14 | U28: 7400
B29: 유연탄(원료용) | C29: TJ/Gg | D29: 29.3 | E29: 28.3 | G29: Ⅱ. 고체연료 | S29: 육불화황 | T29: SF6 | U29: 23900
B30: 아역청탄 | C30: TJ/Gg | D30: 22.4 | E30: 20.9 | G30: 무연탄 | J30: 국내 무연탄, 수입 무연탄 | K30: 98300 | L30: 1 | M30: 10 | N30: 10 | O30: 300 | P30: 1.5 | Q30: 1.5
B31: 코크스 | C31: TJ/Gg | D31: 29.5 | E31: 29.3 | G31: 점결탄 | J31: 원료용 유연탄 | K31: 94600 | L31: 1 | M31: 10 | N31: 10 | O31: 300 | P31: 1.5 | Q31: 1.5
B32: 전력 | C32: TJ/GWh | D32: 9 | E32: 9 | G32: 기타 역청탄 | J32: 연료용 유연탄 | K32: 94600 | L32: 1 | M32: 10 | N32: 10 | O32: 300 | P32: 1.5 | Q32: 1.5
B33: 신탄 | C33: TJ/1000ton | D33: 18.8 | G33: 하위 유연탄 | J33: 아역청탄 | K33: 96100 | L33: 1 | M33: 10 | N33: 10 | O33: 300 | P33: 1.5 | Q33: 1.5
G34: 갈탄 | J34: 갈탄 | K34: 101000 | L34: 1 | M34: 10 | N34: 10 | O34: 300 | P34: 1.5 | Q34: 1.5
G35: 유혈암 및 역청암 | J35: - | K35: 107000 | L35: 1 | M35: 10 | N35: 10 | O35: 300 | P35: 1.5 | Q35: 1.5
G36: 갈탄 연탄 | J36: - | K36: 97500 | L36: 1 | M36: 10 | N36: 10 | O36: 300 | P36: 1.5 | Q36: 1.5
G37: 특허연료 | J37: - | K37: 97500 | L37: 1 | M37: 10 | N37: 10 | O37: 300 | P37: 1.5 | Q37: 1.5
G38: 코크스 | I38: 코크스로 코크스 | J38: 코크스 | K38: 107000 | L38: 1 | M38: 10 | N38: 10 | O38: 300 | P38: 1.5 | Q38: 1.5
I39: 가스 코크스 | J39: - | K39: 107000 | L39: 1 | M39: 1 | N39: 5 | O39: 5 | P39: 0.1 | Q39: 0.1
G40: 콜타르 | J40: - | K40: 80700 | L40: 1 | M40: 10 | N40: 10 | O40: 300 | P40: 1.5 | Q40: 1.5
G41: Ⅲ. 기체연료
...
