Workbook
Name 간접DB명: 배출계수!$C$3:$C$148
Name 간접배출계수: 배출계수!$C$3:$D$148
Name 운송DB명: 배출계수!#REF!
Name 운송배출계수: 배출계수!#REF!
Name 직접DB명: 배출계수!$H$3:$H$159
Name 직접배출계수: 배출계수!$H$3:$I$159
Name 폐기DB명: 배출계수!$M$3:$M$29
Name 폐기배출계수: 배출계수!$M$3:$N$29

Sheet 계산기준
A1: 예제
A2: 700g의 샴푸의 경우, 샴푸내용물 중량은 709g, 용기 62g, 펌프캡 14g, 출하종이상자 80g(8개입/개), 출하상자칸막이 16g이다. 이때 기능단위?
A3: 답: 785g(내용물 709g, 포장재 76g)
A4: 구분 | C4: 값(g)
A5: 제품 | C5: 709
A6: 최소포장재 | B6: 용기 | C6: 62
B7: 펌프캡 | C7: 14
A8: 출하포장재 | B8: 출하종이상자 | C8: =80/8 -> 10
B9: 출하상자칸막이 | C9: =16/8 -> 2
A10: 총합 | C10: =SUM(C5:C9) -> 797
A13: 실습문제1
A14: 헤어왁스 80g 제품 1개의 경우, 내용물 83g, 용기 24.4g, 캡 11.2g, 스티커(용기부착용) 1.1g, PP케이스(투명) 4.6g, 출하종이상자 72g(24개입/개) 이다. 기능단위를 계산하고 제품중량 정보를 작성하시오.
A15: 답:
A16: 기능단위: 헤어왁스 80g 제품 119.7g(내용물 83g, 포장재 36.7g)
A17: 제품중량 정보
A18: 구분 | C18: 값(g)
A19: 제품 | C19: 83
A20: 최소포장재 | B20: 용기 | C20: 24.4
B21: 캡 | C21: 11.2
B22: 스티커 | C22: 1.1
A23: 2차포장재 | B23: PP케이스 | C23: 4.6
A24: 출하포장재 | B24: 출하종이상자 | C24: =72/24 -> 3
A25: 총합 | C25: =SUM(C19:C24) -> 127.3

Sheet 제외기준_투입물분석
A1: 실습문제2
A3: 내용물 투입물 분석표
B4: 구분 | C4: 물질명 | D4: 투입량(g) | E4: 비율 | F4: 누적비율
B5: 4 | C5: 상수(물) | D5: 3450000 | E5: =D5/$D$15 -> 0.53841892 | F5: =E5 -> 0.53841892
B6: 3 | C6: 계면활성제2 | D6: 1420000 | E6: =D6/$D$15 -> 0.22161011 | F6: =F5+E6 -> 0.76002903
B7: 2 | C7: 계면활성제1 | D7: 1340000 | E7: =D7/$D$15 -> 0.20912503 | F7: =F6+E7 -> 0.96915406
B8: 5 | C8: 유화제 | D8: 185000 | E8: =D8/$D$15 -> 0.028871739 | F8: =F7+E8 -> 0.9980258
B9: 7 | C9: 약품2 | D9: 5500 | E9: =D9/$D$15 -> 0.000858349 | F9: =F8+E9 -> 0.99888415
B10: 6 | C10: 약품1 | D10: 3500 | E10: =D10/$D$15 -> 0.00054622209 | F10: =F9+E10 -> 0.99943037
B11: 10 | C11: 필터 | D11: 1800 | E11: =D11/$D$15 -> 0.00028091422 | F11: =F10+E11 -> 0.99971128
B12: 8 | C12: 잉크 | D12: 1500 | E12: =D12/$D$15 -> 0.00023409518 | F12: =F11+E12 -> 0.99994538
B13: 9 | C13: 인삼추출물 | D13: 230 | E13: =D13/$D$15 -> 3.5894595e-05 | F13: =F12+E13 -> 0.99998127
B14: 1 | C14: 라벤더향 | D14: 120 | E14: =D14/$D$15 -> 1.8727615e-05 | F14: =F13+E14 -> 1
D15: =SUM(D5:D14) -> 6407650
A16: 최소포장재 투입물 분석표
B18: 구분 | C18: 물질명 | D18: 투입량(g) | E18: 비율 | F18: 누적비율
B19: 2 | C19: 용기 | D19: 62 | E19: =D19/$D$22 -> 0.80310881 | F19: =E19 -> 0.80310881
B20: 1 | C20: 펌프캡 | D20: 14 | E20: =D20/$D$22 -> 0.18134715 | F20: =F19+E20 -> 0.98445596
B21: 3 | C21: 스티커 | D21: 1.2 | E21: =D21/$D$22 -> 0.015544041 | F21: =F20+E21 -> 1
D22: =SUM(D19:D21) -> 77.2

Sheet 공정흐름도
A1: 실습문제3

Sheet 제조전단계
B2: 1-4 펌프캡 제조데이터(년간)
B3: 1.투입물 | N3: 1개 기준의 데이터(g) | P3: 직접 DB명 | Q3: 간접 DB명 | R3: 직접배출계수 | S3: 간접배출계수 | T3: 단위 | U3: 직접배출량 (gCO2/개) | V3: 간접배출량 (gCO2/개) | W3: 계산근거 | X3: 발생량 (gCO2/개) | Y3: 비율(%)
B4: 데이터 범주 | C4: 물질명 | E4: 단위 | F4: 값 | G4: 누적질량기여도 | H4: 데이터품질 | K4: 수송
H5: 측정 | I5: 계산 | J5: 추정 | K5: 거리(km) | L5: 수송수단
B6: 원료/ 보조물질 | C6: Homo PP(Polypropylene) | E6: kg | F6: 7662.4002 | G6: 0.46074695 | N6: =F6*$N$20/$F$20 -> 6.4891601 | Q6: =배출계수!C129 -> 폴리프로필렌 | S6: =배출계수!D129 -> 1.47 | T6: =배출계수!E129 -> kg CO2 / kg | V6: =N6*S6 -> 9.5390653 | X6: =V6 -> 9.5390653
C7: Random PP (Polypropylene) | E7: kg | F7: 5190.6582 | G7: 0.77286585 | N7: =F7*$N$20/$F$20 -> 4.3958826 | Q7: =배출계수!C129 -> 폴리프로필렌 | S7: =배출계수!D129 -> 1.47 | T7: =배출계수!E129 -> kg CO2 / kg | V7: =N7*S7 -> 6.4619475 | X7: =V7 -> 6.4619475
C8: Low-density polyethylene(LDPE) | E8: kg | F8: 1952.0424 | G8: 0.8902439 | N8: =F8*$N$20/$F$20 -> 1.6531524 | Q8: =배출계수!C123 -> 저밀도 폴리에틸렌 | S8: =배출계수!D123 -> 1.86 | T8: =배출계수!E123 -> kg CO2 / kg | V8: =N8*S8 -> 3.0748635 | X8: =V8 -> 3.0748635
C9: Stainless steel(spring) | E9: kg | F9: 988.6968 | G9: 0.94969512 | N9: =F9*$N$20/$F$20 -> 0.83731098 | Q9: =배출계수!C76 -> 스테인레스강 | S9: =배출계수!D76 -> 3.23 | T9: =배출계수!E76 -> kg CO2 / kg | V9: =N9*S9 -> 2.7045145 | X9: =V9 -> 2.7045145
C10: Linear low-density polyethylene(LLDPE) | E10: kg | F10: 488.0106 | G10: 0.97903963 | N10: =F10*$N$20/$F$20 -> 0.41328811 | Q10: Polyethylene, LLDPE, granulate (유럽 2006 Ecoinvent) | S10: 1.5362784 | T10: kg CO2 / kg | V10: =N10*S10 -> 0.6349256 | X10: =V10 -> 0.6349256
C11: Pigments | E11: kg | F11: 259.8498 | G11: 0.99466463 | N11: =F11*$N$20/$F$20 -> 0.2200625
C12: Polyoxymethylene(POM) | E12: kg | F12: 50.7024 | G12: 0.99771341 | N12: =F12*$N$20/$F$20 -> 0.042939024
C13: Silicon | E13: kg | F13: 38.0268 | G13: 1 | N13: =F13*$N$20/$F$20 -> 0.032204268
B14: 에너지 | C14: 조립전기 | E14: kwh | F14: 6125.7898 | N14: =F14*$N$20/$F$20 -> 5.1878301 | Q14: =배출계수!C145 -> 전기 | S14: =배출계수!D145 -> 0.495 | T14: =배출계수!E145 -> kg CO2 / kWh | V14: =N14*S14 -> 2.5679759 | X14: =V14 -> 2.5679759
C15: 사출전기 | E15: kwh | F15: 20865.722 | N15: =F15*$N$20/$F$20 -> 17.670835 | Q15: =배출계수!C145 -> 전기 | S15: =배출계수!D145 -> 0.495 | T15: =배출계수!E145 -> kg CO2 / kWh | V15: =N15*S15 -> 8.7470633 | X15: =V15 -> 8.7470633
B16: 용수 | C16: 공업용수(냉각보충용) | E16: kg | F16: 18277.84 | N16: =F16*$N$20/$F$20 -> 15.4792 | Q16: =배출계수!C136 -> 상수 | S16: =배출계수!D136 -> 0.000332 | T16: =배출계수!E136 -> kg CO2 / kg | V16: =N16*S16 -> 0.0051390945 | X16: =V16 -> 0.0051390945
B17: 2.산출물
B18: 데이터 범주 | C18: 물질명 | E18: 단위 | F18: 값 | H18: 데이터품질 | K18: 수송
H19: 측정 | I19: 계산 | J19: 추정 | K19: 거리(km) | L19: 수송수단
B20: 제품 | C20: 펌프캡 | E20: kg | F20: 16531.2 | K20: 186 | L20: 트럭 | N20: =제조단계!N35 -> 14 | Q20: =배출계수!M32 -> 트럭 | S20: =배출계수!N32 -> 0.249 | T20: =배출계수!O32 -> kg CO2 / ton.Km | V20: =K20*N20*S20/1000 -> 0.648396 | X20: =V20 -> 0.648396
B21: 대기배출물 | C21: 수증기 | E21: kg | F21: 18277.84 | K21: 증발 | N21: =F21*$N$20/$F$20 -> 15.4792
B22: 폐기물 | C22: 불량펌프 | E22: kg | F22: 99.1872 | K22: 위탁재활용 | N22: =F22*$N$20/$F$20 -> 0.084 | Q22: =배출계수!M23 -> 혼합폐플라스틱 재활용 | S22: =배출계수!N23 -> 0.0186 | T22: =배출계수!O29 -> kg CO2 / kg | V22: =N22*S22 -> 0.0015624 | X22: =V22 -> 0.0015624
W23: 총 발생량 | X23: =SUM(X5:X22) -> 34.385453
B24: 3.데이터산출근거(데이터수집방법이 측정치의 배분, 계산, 추정 등에 해당하는 경우)
B25: 데이터범주 | C25: 물질명 | E25: 산출근거

Sheet 제조단계
A2: 구분 | B2: 물질명 | C2: 투입량(g) | D2: 비율 | E2: 누적비율 | H2: 구분 | I2: 중량 | J2: 단위
A3: 4 | B3: 상수 | C3: 3450000 | D3: =C3/$C$13 -> 0.53841892 | E3: =D3 -> 0.53841892 | H3: 용기 | I3: 62 | J3: g/ea
A4: 3 | B4: 계면활성제2 | C4: 1420000 | D4: =C4/$C$13 -> 0.22161011 | E4: =E3+D4 -> 0.76002903 | H4: 펌프캡 | I4: 14 | J4: g/ea
A5: 2 | B5: 계면활성제1 | C5: 1340000 | D5: =C5/$C$13 -> 0.20912503 | E5: =E4+D5 -> 0.96915406 | H5: 출하종이상자 | I5: 80 | J5: g/8개입
A6: 5 | B6: 유화제 | C6: 185000 | D6: =C6/$C$13 -> 0.028871739 | E6: =E5+D6 -> 0.9980258 | H6: 출하상자칸막이 | I6: 16 | J6: g/8개입
A7: 7 | B7: 약품2 | C7: 5500 | D7: =C7/$C$13 -> 0.000858349 | E7: =E6+D7 -> 0.99888415
A8: 6 | B8: 약품1 | C8: 3500 | D8: =C8/$C$13 -> 0.00054622209 | E8: =E7+D8 -> 0.99943037 | H8: 제품 생산수량 | I8: 8839 | J8: ea
A9: 10 | B9: 필터 | C9: 1800 | D9: =C9/$C$13 -> 0.00028091422 | E9: =E8+D9 -> 0.99971128 | H9: 제품 생산중량(내용물) | I9: 6266851 | J9: g
A10: 8 | B10: 잉크 | C10: 1500 | D10: =C10/$C$13 -> 0.00023409518 | E10: =E9+D10 -> 0.99994538 | H10: 포장 불량 | I10: 0 | J10: %
A11: 9 | B11: 인삼추출물 | C11: 230 | D11: =C11/$C$13 -> 3.5894595e-05 | E11: =E10+D11 -> 0.99998127
A12: 1 | B12: 라벤더향 | C12: 120 | D12: =C12/$C$13 -> 1.8727615e-05 | E12: =E11+D12 -> 1
C13: =SUM(C3:C12) -> 6407650 | F13: 로스율
D14: =D3+D4+D5+D6+D7+D11 -> 0.99892004 | E14: =E15*709 -> 6266851 | F14: =(D14-E14)/D14 -> -6273625.3
E15: 8839
B16: 전기 | C16: =0.034*E15 -> 300.526 | D16: kwh
B17: LNG | C17: =0.005*E15 -> 44.195 | D17: Nm3
B18: 세척수(상수) | C18: =65.3*E15 -> 577186.7 | D18: g
A20: 실습문제4 | B20: 제조단계 데이터 작성(1년 데이터) | N20: 실습문제5 | P20: 실습문제6 | Q20: 배출량 산정
B21: 1.투입물 | N21: 1개 기준의 데이터 | P21: 직접 DB명 | Q21: 간접 DB명 | R21: 직접배출계수 | S21: 간접배출계수 | T21: 단위 | U21: 직접배출량 (gCO2/개) | V21: 간접배출량 (gCO2/개) | W21: 계산근거 | X21: 발생량 (gCO2/개) | Y21: 비율(%)
B22: 데이터 범주 | C22: 물질명 | E22: 단위 | F22: 값 | G22: 누적질량기여도 | H22: 데이터품질 | K22: 수송
H23: 측정 | I23: 계산 | J23: 추정 | K23: 거리(km) | L23: 수송수단
B24: 원료/ 보조물질 | C24: 상수 | E24: g | F24: 3450000 | G24: 0.53841892 | H24: o | N24: =F24/$I$8 -> 390.31565 | Q24: =배출계수!C136 -> 상수 | S24: =배출계수!D136 -> 0.000332 | T24: =배출계수!E136 -> kg CO2 / kg | V24: =N24*S24 -> 0.12958479 | X24: =V24 -> 0.12958479
C25: 계면활성제2 | E25: g | F25: 1420000 | G25: 0.76002903 | N25: =F25/$I$8 -> 160.65166
C26: 계면활성제1 | E26: g | F26: 1340000 | G26: 0.96915406 | N26: =F26/$I$8 -> 151.60086
C27: 유화제 | E27: g | F27: 185000 | N27: =F27/$I$8 -> 20.929969
C28: 약품2 | E28: g | F28: 5500 | N28: =F28/$I$8 -> 0.62224234
C29: 약품1 | E29: g | F29: 3500 | N29: =F29/$I$8 -> 0.3959724
C30: 필터 | E30: g | F30: 1800 | N30: =F30/$I$8 -> 0.20364295
C31: 잉크 | E31: g | F31: 1500 | N31: =F31/$I$8 -> 0.16970246
C32: 인삼추출물 | E32: g | F32: 230 | N32: =F32/$I$8 -> 0.026021043
C33: 라벤더향 | E33: g | F33: 120 | N33: =F33/$I$8 -> 0.013576196
C34: 용기 | E34: g | F34: =I3*I8 -> 548018 | N34: =F34/$I$8 -> 62
C35: 펌프캡 | E35: g | F35: =I4*I8 -> 123746 | N35: =F35/$I$8 -> 14
C36: 출하종이상자 | E36: g | F36: =I5*I8/8 -> 88390 | N36: =F36/$I$8 -> 10
C37: 출하상자칸막이 | E37: g | F37: =I6*I8/8 -> 17678 | N37: =F37/$I$8 -> 2
B38: 에너지 | C38: 전기 | E38: =D16 -> kwh | F38: =C16 -> 300.526 | N38: =F38/$I$8 -> 0.034 | Q38: =배출계수!C145 -> 전기 | S38: =배출계수!D145 -> 0.495 | T38: =배출계수!E145 -> kg CO2 / kWh | V38: =N38*S38 -> 0.01683 | X38: =V38 -> 0.01683
C39: LNG | E39: =D17 -> Nm3 | F39: =C17 -> 44.195 | N39: =F39/$I$8 -> 0.005 | P39: =배출계수!H58 -> 제조업 및 건설 | Q39: =배출계수!C144 -> LNG | R39: =배출계수!I58 -> 2.78 | S39: =배출계수!D144 -> 0.595 | T39: =배출계수!E144 -> kg CO2 / kg | U39: =N39*R39*참고.에너지밀도!B7 -> 0.0112034 | V39: =N39*S39*참고.에너지밀도!B7 -> 0.00239785 | X39: =U39+V39 -> 0.01360125
B40: 용수 | C40: 세척수(상수) | E40: g | F40: =C18 -> 577186.7 | J40: o | N40: =F40/$I$8 -> 65.3 | Q40: =배출계수!C136 -> 상수 | S40: =배출계수!D136 -> 0.000332 | T40: =배출계수!E136 -> kg CO2 / kg | V40: =N40*S40 -> 0.0216796 | X40: =V40 -> 0.0216796
B41: 2.산출물 | F41: =SUM(F24:F37) -> 7185482
B42: 데이터 범주 | C42: 물질명 | E42: 단위 | F42: 값 | H42: 데이터품질 | K42: 수송
...

Sheet 제품수송
B2: 수도권 | C2: 충남 | D2: 충북 | E2: 강원 | F2: 경남 | G2: 경북 | H2: 전북 | I2: 전남 | J2: 제주
A3: 운송량(ea) | B3: 5340 | C3: 1235 | D3: 823 | E3: 131 | F3: 250 | G3: 340 | H3: 400 | I3: 320 | J3: 80 | K3: 8839 | L3: 총 운송량
A4: 운송비율(%) | B4: =B3/$K$3*100 -> 60.414074 | C4: =C3/$K$3*100 -> 13.972169 | D4: =D3/$K$3*100 -> 9.311008 | E4: =E3/$K$3*100 -> 1.4820681 | F4: =F3/$K$3*100 -> 2.8283743 | G4: =G3/$K$3*100 -> 3.846589 | H4: =H3/$K$3*100 -> 4.5253988 | I4: =I3/$K$3*100 -> 3.620319 | J4: =J3/K3*100 -> 0.90507976
A5: 충남~권역별 수송거리(km) | B5: 161 | C5: 30 | D5: 46 | E5: 167 | F5: 260 | G5: 153 | H5: 84 | I5: 168
A6: 각 권역별 거리에 운송비율 적용 | B6: =(B4*B5)/100 -> 97.266659 | C6: =(C4*C5)/100 -> 4.1916506 | D6: =(D4*D5)/100 -> 4.2830637 | E6: =(E4*E5)/100 -> 2.4750537 | F6: =(F4*F5)/100 -> 7.3537731 | G6: =(G4*G5)/100 -> 5.8852811 | H6: =(H4*H5)/100 -> 3.801335 | I6: =(I4*I5)/100 -> 6.082136 | K6: =SUM(B6:I6) -> 131.33895
K7: 제품 1EA당 육상 수송거리
B8: 제주_해운 (목포~제주)
A9: 총 운송량(ea) | B9: =J3 -> 80
A10: 운송비율 | B10: =J4 -> 0.90507976
A11: 목포~제주 수송거리(km) | B11: 178
A12: 각 권역별 거리에 운송비율 적용 | B12: =(B10*B11)/100 -> 1.611042 | C12: 제품 1EA당 해상 수송거리
A15: 구분 | B15: 거리(km) | C15: 직접 DB명 | D15: 간접 DB명 | E15: 직접배출계수 | F15: 간접배출계수 | G15: 단위 | H15: 직접배출량 (gCO2/개) | I15: 간접배출량 (gCO2/개) | J15: 계산근거 | K15: 발생량 (kgCO2/개) | L15: 비율(%)
A16: 육상수송 | B16: =K6 -> 131.33895 | D16: =배출계수!M32 -> 트럭 | F16: =배출계수!N32 -> 0.249 | G16: =배출계수!O32 -> kg CO2 / ton.Km | H16: =제조단계!N44*B16*F16/1000 -> 26.064609
A17: 해상수송 | B17: =B12 -> 1.611042 | D17: =배출계수!M33 -> 내항선(벌크) | F17: =배출계수!N33 -> 0.00837 | G17: =배출계수!O33 -> kg CO2 / ton.Km | H17: =제조단계!N44*B17*F17/1000 -> 0.010747084
H18: =SUM(H16:H17) -> 26.075356

Sheet 폐기단계
A1: 예제
A2: 3. 제품 폐기 | K2: CO2배출계수 | L2: 단위 | M2: CO2배출량 (gCO2) | N2: DB명
A3: 번호 | B3: 물질명 | C3: 단위 | D3: 양 | E3: 재활용 의무율(2009) | G3: 폐기물 통계(2006) | I3: LCI DB사용유무
A4: 1 | B4: 바디,캡 (PP) | C4: g | D4: 78.1 | E4: 재활용 | F4: 0.653 | G4: 재활용 | H4: 0.985 | I4: Y | K4: 0.0186 | L4: kg CO2 / kg | M4: =$D$4*$F$4*H4*K4 -> 0.93435818 | N4: 혼합폐플라스틱 재활용(국가 DB)
G5: 소각 | H5: 0.007 | I5: Y | K5: 2.35 | L5: kg CO2 / kg | M5: =$D$4*$F$4*H5*K5 -> 0.83893849 | N5: 혼합폐플라스틱 소각(국가 DB)
G6: 매립 | H6: 0.008 | I6: Y | K6: 0.0798 | L6: kg CO2 / kg | M6: =$D$4*$F$4*H6*K6 -> 0.032557953 | N6: 혼합폐플라스틱 매립(국가 DB)
E7: 종량제 | F7: =1-F4 -> 0.347 | G7: 재활용 | H7: 0.022 | I7: Y | K7: 0.0186 | L7: kg CO2 / kg | M7: =$D$4*$F$7*H7*K7 -> 0.011089606 | N7: 혼합폐플라스틱 재활용(국가 DB)
G8: 소각 | H8: 0.491 | I8: Y | K8: 2.35 | L8: kg CO2 / kg | M8: =$D$4*$F$7*H8*K8 -> 31.270143 | N8: 혼합폐플라스틱 소각(국가 DB)
G9: 매립 | H9: 0.487 | I9: Y | K9: 0.0798 | L9: kg CO2 / kg | M9: =$D$4*$F$7*H9*K9 -> 1.0532037 | N9: 혼합폐플라스틱 매립(국가 DB)
A10: 2 | B10: 실리콘 | C10: g | D10: 4.4 | E10: 재활용 | F10: 0 | G10: 재활용 | H10: - | I10: N | K10: - | L10: kg CO2 / kg
G11: 소각 | H11: - | I11: N | K11: - | L11: kg CO2 / kg
G12: 매립 | H12: - | I12: N | K12: - | L12: kg CO2 / kg
E13: 종량제 | F13: 1 | G13: 재활용 | H13: 0.022 | I13: Y | K13: 0.0186 | L13: kg CO2 / kg | M13: =$D$10*$F$13*H13*K13 -> 0.00180048 | N13: 혼합폐플라스틱 재활용(국가 DB)
G14: 소각 | H14: 0.491 | I14: Y | K14: 3.14 | L14: kg CO2 / kg | M14: =$D$10*$F$13*H14*K14 -> 6.783656 | N14: 폐고무 소각(국가 DB)
G15: 매립 | H15: 0.487 | I15: Y | K15: 0.0782 | L15: kg CO2 / kg | M15: =$D$10*$F$13*H15*K15 -> 0.16756696 | N15: 혼합폐플라스틱 매립(국가 DB)
A16: 3 | B16: 종이 (내지, 스티커) | C16: g | D16: 2.98 | E16: 재활용 | F16: 0.305 | G16: 재활용 | H16: 0.996 | I16: Y | K16: 0.121 | L16: kg CO2 / kg | M16: =$D$16*$F$16*H16*K16 -> 0.10953699 | N16: 폐지 재활용(국가 DB)
G17: 소각 | H17: 0.002 | I17: Y | K17: 0.0241 | L17: kg CO2 / kg | M17: =$D$16*$F$16*H17*K17 -> 4.380898e-05 | N17: 폐지 소각(국가 DB)
G18: 매립 | H18: 0.002 | I18: Y | K18: 0.896 | L18: kg CO2 / kg | M18: =$D$16*$F$16*H18*K18 -> 0.0016287488 | N18: 폐지 매립(국가 DB)
E19: 종량제 | F19: =1-F16 -> 0.695 | G19: 재활용 | H19: 0.018 | I19: Y | K19: 0.121 | L19: kg CO2 / kg | M19: =$D$16*$F$19*H19*K19 -> 0.0045108558 | N19: 폐지 재활용(국가 DB)
G20: 소각 | H20: 0.496 | I20: Y | K20: 0.0241 | L20: kg CO2 / kg | M20: =$D$16*$F$19*H20*K20 -> 0.024757101 | N20: 폐지 소각(국가 DB)
G21: 매립 | H21: 0.486 | I21: Y | K21: 0.896 | L21: kg CO2 / kg | M21: =$D$16*$F$19*H21*K21 -> 0.90187292 | N21: 폐지 매립(국가 DB)
A22: 4 | B22: PE wrap | C22: g | D22: 0.20078125 | E22: 재활용 | F22: 0.476 | G22: 재활용 | H22: 0.985 | I22: Y | K22: 0.0186 | L22: kg CO2 / kg | M22: =$D$22*$F$22*H22*K22 -> 0.0017509723 | N22: 혼합폐플라스틱 재활용(국가 DB)
G23: 소각 | H23: 0.007 | I23: Y | K23: 2.35 | L23: kg CO2 / kg | M23: =$D$22*$F$22*H23*K23 -> 0.0015721573 | N23: 혼합폐플라스틱 소각(국가 DB)
G24: 매립 | H24: 0.008 | I24: Y | K24: 0.0798 | L24: kg CO2 / kg | M24: =$D$22*$F$22*H24*K24 -> 6.1013085e-05 | N24: 혼합폐플라스틱 매립(국가 DB)
E25: 종량제 | F25: =1-F22 -> 0.524 | G25: 재활용 | H25: 0.022 | I25: Y | K25: 0.0186 | L25: kg CO2 / kg | M25: =$D$22*$F$25*H25*K25 -> 4.3051676e-05 | N25: 혼합폐플라스틱 재활용(국가 DB)
G26: 소각 | H26: 0.491 | I26: Y | K26: 2.35 | L26: kg CO2 / kg | M26: =$D$22*$F$25*H26*K26 -> 0.12139584 | N26: 혼합폐플라스틱 소각(국가 DB)
G27: 매립 | H27: 0.487 | I27: Y | K27: 0.0798 | L27: kg CO2 / kg | M27: =$D$22*$F$25*H27*K27 -> 0.0040887099 | N27: 혼합폐플라스틱 매립(국가 DB)
A28: 5 | B28: 골판지 | C28: g | D28: 36.79 | E28: 재활용 | F28: 0.305 | G28: 재활용 | H28: 0.996 | I28: Y | K28: 0.121 | L28: kg CO2 / kg | M28: =$D$28*$F$28*H28*K28 -> 1.352304 | N28: 폐지 재활용(국가 DB)
G29: 소각 | H29: 0.002 | I29: Y | K29: 0.0241 | L29: kg CO2 / kg | M29: =$D$28*$F$28*H29*K29 -> 0.00054084979 | N29: 폐지 소각(국가 DB)
G30: 매립 | H30: 0.002 | I30: Y | K30: 0.896 | L30: kg CO2 / kg | M30: =$D$28*$F$28*H30*K30 -> 0.020107942 | N30: 폐지 매립(국가 DB)
E31: 종량제 | F31: =1-F28 -> 0.695 | G31: 재활용 | H31: 0.018 | I31: Y | K31: 0.121 | L31: kg CO2 / kg | M31: =$D$28*$F$31*H31*K31 -> 0.055689391 | N31: 폐지 재활용(국가 DB)
G32: 소각 | H32: 0.496 | I32: Y | K32: 0.0241 | L32: kg CO2 / kg | M32: =$D$28*$F$31*H32*K32 -> 0.3056422 | N32: 폐지 소각(국가 DB)
G33: 매립 | H33: 0.486 | I33: Y | K33: 0.896 | L33: kg CO2 / kg | M33: =$D$28*$F$31*H33*K33 -> 11.134196 | N33: 폐지 매립(국가 DB)
K34: 소계 | M34: =SUM(M4:M33) -> 55.133057 | N34: =M34/$C$138 -> #DIV/0!

Sheet 배출계수
B1: 1.원료 및 에너지 생산(간접배출계수) | G1: 2.연료원별 사용 및 화학공정 반응(직접배출계수) | L1: 3.폐기처리별 배출계수(간접)
B2: 원료물질 | C2: 명칭 | D2: 배출계수 | E2: 단위 | G2: 연료 | H2: 산업영역 | I2: 배출계수 | J2: 단위 | L2: 폐기 | M2: 명칭 | N2: 배출계수 | O2: 단위
B3: 기초화학물질 | C3: 1,3-부타디엔 | D3: 1.65 | E3: kg CO2 / kg | G3: 경유 | H3: 가정 | I3: 2.61 | J3: kgCO2/L | L3: 소각 | M3: 폐목 소각 | N3: 0.0117 | O3: kg CO2 / kg
B4: 기초화학물질 | C4: 1,4-부탄디올 | D4: 3.42 | E4: kg CO2 / kg | H4: 농림어업 (고정) | I4: 2.61 | J4: kgCO2/L | M4: 폐지 소각 | N4: 0.0241 | O4: kg CO2 / kg
B5: 기초화학물질 | C5: 가성소다 | D5: 0.629 | E5: kg CO2 / kg | H5: 농림어업 (이동) | I5: 2.6 | J5: kgCO2/L | M5: 혼합폐플라스틱 소각 | N5: 2.35 | O5: kg CO2 / kg
B6: 기초화학물질 | C6: 가성칼륨 | D6: 0.434 | E6: kg CO2 / kg | H6: 상업/공공 | I6: 2.61 | J6: kgCO2/L | M6: 폐고무 소각 | N6: 3.14 | O6: kg CO2 / kg
B7: 기초화학물질 | C7: 규산나트륨 | D7: 1.51 | E7: kg CO2 / kg | H7: 수송 (육상) | I7: 2.62 | J7: kgCO2/L | M7: 폐유리 소각 | N7: 0.0242 | O7: kg CO2 / kg
B8: 기초화학물질 | C8: 나프타 | D8: 0.0643 | E8: kg CO2 / kg | H8: 수송 (철도) | I8: 2.6 | J8: kgCO2/L | M8: 폐금속 소각 | N8: 0.017 | O8: kg CO2 / kg
B9: 기초화학물질 | C9: 니트로벤젠 | D9: 2.03 | E9: kg CO2 / kg | H9: 수송(해운) | I9: 2.6 | J9: kgCO2/L | M9: 일반폐기물 소각 | N9: 0.123 | O9: kg CO2 / kg
B10: 기초화학물질 | C10: 메탄올 | D10: 0.421 | E10: kg CO2 / kg | H10: 경유에너지산업 | I10: 2.6 | J10: kgCO2/L | M10: 지정폐기물 소각 | N10: 0.343 | O10: kg CO2 / kg
B11: 기초화학물질 | C11: 메틸 메타크릴레이트 | D11: 0.816 | E11: kg CO2 / kg | H11: 제조업 및 건설 | I11: 2.6 | J11: kgCO2/L | L11: 매립 | M11: 폐목 매립 | N11: 0.0607 | O11: kg CO2 / kg
B12: 기초화학물질 | C12: 무수불화수소 | D12: 0.672 | E12: kg CO2 / kg | G12: 국내무연탄 | H12: 가정 | I12: 1.98 | J12: kgCO2 /kg | M12: 폐지 매립 | N12: 0.896 | O12: kg CO2 / kg
B13: 기초화학물질 | C13: 벤젠 | D13: 0.852 | E13: kg CO2 / kg | H13: 농림어업 (고정) | I13: 1.98 | J13: kgCO2 /kg | M13: 혼합폐플라스틱 매립 | N13: 0.0798 | O13: kg CO2 / kg
B14: 기초화학물질 | C14: 불포화폴리에스테르계 도료 | D14: 2.87 | E14: kg CO2 / kg | H14: 상업/공공 | I14: 1.87 | J14: kgCO2 /kg | M14: 폐유리 매립 | N14: 0.007 | O14: kg CO2 / kg
B15: 기초화학물질 | C15: 불화수소 | D15: 0.354 | E15: kg CO2 / kg | H15: 수송 (철도) | I15: 1.87 | J15: kgCO2 /kg | M15: 폐콘크리트 매립 | N15: 0.007 | O15: kg CO2 / kg
B16: 기초화학물질 | C16: 산소 | D16: 0.497 | E16: kg CO2 / kg | H16: 수송(해운) | I16: 1.87 | J16: kgCO2 /kg | M16: 유해폐기물 매립 | N16: 0.0887 | O16: kg CO2 / kg
B17: 기초화학물질 | C17: 산화아연 | D17: 5.19 | E17: kg CO2 / kg | H17: 에너지산업 | I17: 1.86 | J17: kgCO2 /kg | M17: 폐금속 매립 | N17: 0.007 | O17: kg CO2 / kg
B18: 기초화학물질 | C18: 산화철 | D18: 21.8 | E18: kg CO2 / kg | H18: 제조업 및 건설 | I18: 1.87 | J18: kgCO2 /kg | M18: 비활성물질 위생매립 | N18: 0.0123 | O18: kg CO2 / kg
B19: 기초화학물질 | C19: 소다회 | D19: 1.03 | E19: kg CO2 / kg | G19: 휘발유 | H19: 가정 | I19: 2.14 | J19: kgCO2/L | M19: 생활폐기물 위생매립 | N19: 0.0399 | O19: kg CO2 / kg
B20: 기초화학물질 | C20: 수산화칼슘 | D20: 0.528 | E20: kg CO2 / kg | H20: 농림어업 (고정) | I20: 2.14 | J20: kgCO2/L | L20: 재활용 | M20: 폐목 재활용 | N20: 0.0139 | O20: kg CO2 / kg
B21: 기초화학물질 | C21: 수소 | D21: 0.709 | E21: kg CO2 / kg | H21: 농림어업 (이동) | I21: 2.13 | J21: kgCO2/L | M21: 폐골판지 재활용 | N21: 0.121 | O21: kg CO2 / kg
B22: 기초화학물질 | C22: 스테아린산 | D22: 49.6 | E22: kg CO2 / kg | H22: 상업/공공 | I22: 2.14 | J22: kgCO2/L | M22: 폐지 재활용 | N22: 0.121 | O22: kg CO2 / kg
B23: 기초화학물질 | C23: 스티렌 | D23: 1.7 | E23: kg CO2 / kg | H23: 수송 (육상) | I23: 2.14 | J23: kgCO2/L | M23: 혼합폐플라스틱 재활용 | N23: 0.0186 | O23: kg CO2 / kg
B24: 기초화학물질 | C24: 스티렌 아크릴로니트릴 | D24: 2.44 | E24: kg CO2 / kg | H24: 수송 (철도) | I24: 2.13 | J24: kgCO2/L | M24: 폐유리 재활용 | N24: 0.00976 | O24: kg CO2 / kg
B25: 기초화학물질 | C25: 신나류 | D25: 1.82 | E25: kg CO2 / kg | H25: 수송(해운) | I25: 2.13 | J25: kgCO2/L | M25: 폐콘크리트 재활용 | N25: 0.0138 | O25: kg CO2 / kg
B26: 기초화학물질 | C26: 아닐린 | D26: 2.9 | E26: kg CO2 / kg | H26: 에너지산업 | I26: 2.13 | J26: kgCO2/L | M26: 폐철금속 재활용 | N26: 0.00379 | O26: kg CO2 / kg
B27: 기초화학물질 | C27: 아세톤 | D27: 1.43 | E27: kg CO2 / kg | H27: 제조업 및 건설 | I27: 2.13 | J27: kgCO2/L | M27: 폐비철금속 재활용 | N27: 0.0178 | O27: kg CO2 / kg
B28: 기초화학물질 | C28: 아세트알데하이드 | D28: 5.68 | E28: kg CO2 / kg | G28: B-A | H28: 가정 | I28: 2.82 | J28: kgCO2/L | M28: 폐유 재활용 | N28: 0.015 | O28: kg CO2 / kg
B29: 기초화학물질 | C29: 아크릴로니트릴 | D29: 2.61 | E29: kg CO2 / kg | H29: 농림어업 (고정) | I29: 2.82 | J29: kgCO2/L | L29: 기타 | M29: 폐수처리 | N29: 0.00128 | O29: kg CO2 / kg
B30: 기초화학물질 | C30: 알킬벤젠술폰산염 | D30: 1.04 | E30: kg CO2 / kg | H30: 농림어업 (이동) | I30: 2.82 | J30: kgCO2/L | L30: 4.수송수단별 배출계수(간접+직접배출계수)
B31: 기초화학물질 | C31: 암모니아 | D31: 0.415 | E31: kg CO2 / kg | H31: 상업/공공 | I31: 2.82 | J31: kgCO2/L | L31: 수송 | M31: 명칭 | N31: 배출계수 | O31: 단위
B32: 기초화학물질 | C32: 에틸렌 | D32: 1.35 | E32: kg CO2 / kg | H32: 수송 (철도) | I32: 2.82 | J32: kgCO2/L | L32: 육상수송 | M32: 트럭 | N32: 0.249 | O32: kg CO2 / ton.Km
B33: 기초화학물질 | C33: 에틸렌 디클로라이드 | D33: 0.634 | E33: kg CO2 / kg | H33: 수송(해운) | I33: 2.82 | J33: kgCO2/L | L33: 해상수송 | M33: 내항선(벌크) | N33: 0.00837 | O33: kg CO2 / ton.Km
B34: 기초화학물질 | C34: 에틸알콜 | D34: 7.28 | E34: kg CO2 / kg | H34: 에너지산업 | I34: 2.82 | J34: kgCO2/L | M34: 외항선(벌크) | N34: 0.00211 | O34: kg CO2 / ton.Km
B35: 기초화학물질 | C35: 에폭시수지 | D35: 2.53 | E35: kg CO2 / kg | H35: 제조업 및 건설 | I35: 2.81 | J35: kgCO2/L | M35: 외항선(컨테이너) | N35: 0.00902 | O35: kg CO2 / ton.Km
B36: 기초화학물질 | C36: 에피클로로히드린 | D36: 4.79 | E36: kg CO2 / kg | G36: B-B | H36: 에너지산업 | I36: 2.93 | J36: kgCO2/L | M36: 외항선(탱커) | N36: 0.00212 | O36: kg CO2 / ton.Km
B37: 기초화학물질 | C37: 염산 | D37: 0.194 | E37: kg CO2 / kg | H37: 가정 | I37: 2.93 | J37: kgCO2/L | L37: 항공수송 | M37: 항공 | N37: 1.1 | O37: kg CO2 / ton.Km
B38: 기초화학물질 | C38: 염소 | D38: 0.392 | E38: kg CO2 / kg | H38: 농림어업 (고정) | I38: 2.93 | J38: kgCO2/L
B39: 기초화학물질 | C39: 염화나트륨 | D39: 0.029 | E39: kg CO2 / kg | H39: 농림어업 (이동) | I39: 2.93 | J39: kgCO2/L
B40: 기초화학물질 | C40: 염화비닐 | D40: 1.13 | E40: kg CO2 / kg | H40: 상업/공공 | I40: 2.93 | J40: kgCO2/L
...

Sheet 참고.에너지밀도
A1: 에너지 종류별 밀도
A2: 구분 | B2: 값 | C2: 출처
A3: *경유 밀도(kg/L) | B3: 0.825 | C3: 한국석유공사
A4: *등유 밀도(kg/L) | B4: 0.788
A5: *벙커 C유(kg/L) | B5: 0.959
A6: *LPG 밀도(kg/L) | B6: 0.508
A7: *LNG 밀도(kg/Nm3) | B7: 0.806 | C7: 한국가스공사
A8: *중유밀도(kg/L) | B8: 0.959 | C8: 한국석유공사
A9: *휘발유밀도(kg/L) | B9: 0.699

Sheet 참고.DB계출계수 계산법
A2: Title: | B2: Analyzing 1 kg 'Corn'
A3: Method:
A4: Compartment: | B4: Airborne emission
A5: Per sub-compartment: | B5: No
A6: Default units: | B6: Yes
A7: Indicator: | B7: Inventory
A8: Relative mode: | B8: Non
A10: No | B10: Substance | C10: Compartment | D10: Unit | E10: Total | F10: 배출량 (kg CO2 eq./kg) | G10: 온난화지수
A11: 1 | B11: Ammonia | C11: Air | D11: kg | E11: 0.0027300312
A12: 2 | B12: Benzene | C12: Air | D12: kg | E12: 3.8300787e-06
A13: 3 | B13: Cadmium | C13: Air | D13: kg | E13: 3.2160237e-08
A14: 4 | B14: Carbon dioxide | C14: Air | D14: kg | E14: 0.23297154 | F14: =E14*G14 -> 0.23297154 | G14: 1
A15: 5 | B15: Carbon monoxide | C15: Air | D15: kg | E15: 0.0005413578 | F15: =E15*G15 -> 0
A16: 6 | B16: Dinitrogen monoxide | C16: Air | D16: kg | E16: 0.00020950322 | F16: =E16*G16 -> 0.064945998 | G16: 310
A17: 7 | B17: Hydrocarbons, aromatic | C17: Air | D17: kg | E17: 1.4507001e-06 | F17: =E17*G17 -> 0
A18: 8 | B18: Hydrocarbons, chlorinated | C18: Air | D18: kg | E18: 7.321152e-12 | F18: =E18*G18 -> 0
A19: 9 | B19: Hydrogen chloride | C19: Air | D19: kg | E19: 3.277315e-06 | F19: =E19*G19 -> 0
A20: 10 | B20: Hydrogen fluoride | C20: Air | D20: kg | E20: 3.3880136e-07 | F20: =E20*G20 -> 0
A21: 11 | B21: Lead | C21: Air | D21: kg | E21: 6.102512e-08 | F21: =E21*G21 -> 0
A22: 12 | B22: Manganese | C22: Air | D22: kg | E22: 9.9086781e-10 | F22: =E22*G22 -> 0
A23: 13 | B23: Mercury | C23: Air | D23: kg | E23: 2.2829991e-09 | F23: =E23*G23 -> 0
A24: 14 | B24: Metals, unspecified | C24: Air | D24: kg | E24: 4.4372271e-06 | F24: =E24*G24 -> 0
A25: 15 | B25: Methane | C25: Air | D25: kg | E25: 0.00037927826 | F25: =E25*G25 -> 0.0079648435 | G25: 21
A26: 16 | B26: Methane, bromotrifluoro-, Halon 1301 | C26: Air | D26: kg | E26: 1.2686276e-08 | F26: =E26*G26 -> 0
A27: 17 | B27: Nickel | C27: Air | D27: kg | E27: 6.9310786e-07 | F27: =E27*G27 -> 0
A28: 18 | B28: Nitrogen oxides | C28: Air | D28: kg | E28: 0.0019322569 | F28: =E28*G28 -> 0
A29: 19 | B29: NMVOC, non-methane volatile organic compounds, unspecified origin | C29: Air | D29: kg | E29: 0.00077368393 | F29: =E29*G29 -> 0
A30: 20 | B30: PAH, polycyclic aromatic hydrocarbons | C30: Air | D30: kg | E30: 1.0726467e-08 | F30: =E30*G30 -> 0
A31: 21 | B31: Particulates | C31: Air | D31: kg | E31: 0.00010121899 | F31: =E31*G31 -> 0
A32: 22 | B32: Radioactive species, unspecified | C32: Air | D32: Bq | E32: 24374.88 | F32: =E32*G32 -> 0
A33: 23 | B33: Sulfur oxides | C33: Air | D33: kg | E33: 0.0013658547 | F33: =E33*G33 -> 0
A34: 24 | B34: Zinc | C34: Air | D34: kg | E34: 9.0591454e-08 | F34: =E34*G34 -> 0
F35: =SUM(F14:F34) -> 0.30588238
